BEGIN:VCALENDAR
VERSION:2.0
PRODID:-//First Lutheran Preschool - ECPv6.15.20//NONSGML v1.0//EN
CALSCALE:GREGORIAN
METHOD:PUBLISH
X-WR-CALNAME:First Lutheran Preschool
X-ORIGINAL-URL:https://school.flrb.org
X-WR-CALDESC:Events for First Lutheran Preschool
REFRESH-INTERVAL;VALUE=DURATION:PT1H
X-Robots-Tag:noindex
X-PUBLISHED-TTL:PT1H
BEGIN:VTIMEZONE
TZID:America/Denver
BEGIN:DAYLIGHT
TZOFFSETFROM:-0700
TZOFFSETTO:-0600
TZNAME:MDT
DTSTART:20250309T090000
END:DAYLIGHT
BEGIN:STANDARD
TZOFFSETFROM:-0600
TZOFFSETTO:-0700
TZNAME:MST
DTSTART:20251102T080000
END:STANDARD
BEGIN:DAYLIGHT
TZOFFSETFROM:-0700
TZOFFSETTO:-0600
TZNAME:MDT
DTSTART:20260308T090000
END:DAYLIGHT
BEGIN:STANDARD
TZOFFSETFROM:-0600
TZOFFSETTO:-0700
TZNAME:MST
DTSTART:20261101T080000
END:STANDARD
BEGIN:DAYLIGHT
TZOFFSETFROM:-0700
TZOFFSETTO:-0600
TZNAME:MDT
DTSTART:20270314T090000
END:DAYLIGHT
BEGIN:STANDARD
TZOFFSETFROM:-0600
TZOFFSETTO:-0700
TZNAME:MST
DTSTART:20271107T080000
END:STANDARD
END:VTIMEZONE
BEGIN:VEVENT
DTSTART;TZID=America/Denver:20260430T103000
DTEND;TZID=America/Denver:20260430T113000
DTSTAMP:20260416T105333
CREATED:20250714T180959Z
LAST-MODIFIED:20250714T180959Z
UID:3222-1777545000-1777548600@school.flrb.org
SUMMARY:Lambs Spring Tea
DESCRIPTION:
URL:https://school.flrb.org/event/lambs-spring-tea/
END:VEVENT
BEGIN:VEVENT
DTSTART;TZID=America/Denver:20260501T103000
DTEND;TZID=America/Denver:20260501T113000
DTSTAMP:20260416T105333
CREATED:20250714T181130Z
LAST-MODIFIED:20250714T181130Z
UID:3224-1777631400-1777635000@school.flrb.org
SUMMARY:Doves Spring Tea
DESCRIPTION:
URL:https://school.flrb.org/event/doves-spring-tea/
END:VEVENT
BEGIN:VEVENT
DTSTART;TZID=America/Denver:20260507T110000
DTEND;TZID=America/Denver:20260507T120000
DTSTAMP:20260416T105333
CREATED:20250714T181207Z
LAST-MODIFIED:20250714T181207Z
UID:3226-1778151600-1778155200@school.flrb.org
SUMMARY:Lions Spring Tea
DESCRIPTION:
URL:https://school.flrb.org/event/lions-spring-tea/
END:VEVENT
BEGIN:VEVENT
DTSTART;VALUE=DATE:20260525
DTEND;VALUE=DATE:20260526
DTSTAMP:20260416T105333
CREATED:20250714T181245Z
LAST-MODIFIED:20250714T181245Z
UID:3228-1779667200-1779753599@school.flrb.org
SUMMARY:Memorial Day - No School
DESCRIPTION:
URL:https://school.flrb.org/event/memorial-day-no-school/
END:VEVENT
BEGIN:VEVENT
DTSTART;VALUE=DATE:20260528
DTEND;VALUE=DATE:20260530
DTSTAMP:20260416T105333
CREATED:20250716T163019Z
LAST-MODIFIED:20250716T163019Z
UID:3230-1779926400-1780099199@school.flrb.org
SUMMARY:Field Days
DESCRIPTION:
URL:https://school.flrb.org/event/field-days-2/
END:VEVENT
BEGIN:VEVENT
DTSTART;VALUE=DATE:20260605
DTEND;VALUE=DATE:20260606
DTSTAMP:20260416T105333
CREATED:20250716T163052Z
LAST-MODIFIED:20250716T163249Z
UID:3232-1780617600-1780703999@school.flrb.org
SUMMARY:Kangaroos Last day of School
DESCRIPTION:
URL:https://school.flrb.org/event/kangaroos-last-day-of-school/
END:VEVENT
BEGIN:VEVENT
DTSTART;VALUE=DATE:20260609
DTEND;VALUE=DATE:20260610
DTSTAMP:20260416T105333
CREATED:20250716T163137Z
LAST-MODIFIED:20250716T163303Z
UID:3234-1780963200-1781049599@school.flrb.org
SUMMARY:Lambs Last Day of School
DESCRIPTION:
URL:https://school.flrb.org/event/lambs-last-day-of-school/
END:VEVENT
BEGIN:VEVENT
DTSTART;VALUE=DATE:20260610
DTEND;VALUE=DATE:20260611
DTSTAMP:20260416T105333
CREATED:20250716T163337Z
LAST-MODIFIED:20250716T163337Z
UID:3236-1781049600-1781135999@school.flrb.org
SUMMARY:Doves/Lions Last Day of School
DESCRIPTION:
URL:https://school.flrb.org/event/doves-lions-last-day-of-school/
END:VEVENT
BEGIN:VEVENT
DTSTART;TZID=America/Denver:20260902T180000
DTEND;TZID=America/Denver:20260902T190000
DTSTAMP:20260416T105333
CREATED:20260409T162717Z
LAST-MODIFIED:20260409T162717Z
UID:3254-1788372000-1788375600@school.flrb.org
SUMMARY:26-27 Parent Orientation
DESCRIPTION:Join us for Parent Orientation as we prepare for the 2026–2027 school year! This is a wonderful opportunity to learn about your child’s classroom\, daily schedule\, curriculum\, and what to expect in the year ahead. You’ll also have a chance to meet teachers\, ask questions\, and get excited for a fantastic year at preschool. We look forward to seeing you there!
URL:https://school.flrb.org/event/26-27-parent-orientation/
END:VEVENT
END:VCALENDAR